BEGIN:VCALENDAR
VERSION:2.0
PRODID:-//Ontario Cerebral Palsy Sports Association - ECPv6.15.18//NONSGML v1.0//EN
CALSCALE:GREGORIAN
METHOD:PUBLISH
X-WR-CALNAME:Ontario Cerebral Palsy Sports Association
X-ORIGINAL-URL:https://ocpsa.com
X-WR-CALDESC:Events for Ontario Cerebral Palsy Sports Association
REFRESH-INTERVAL;VALUE=DURATION:PT1H
X-Robots-Tag:noindex
X-PUBLISHED-TTL:PT1H
BEGIN:VTIMEZONE
TZID:America/Toronto
BEGIN:DAYLIGHT
TZOFFSETFROM:-0500
TZOFFSETTO:-0400
TZNAME:EDT
DTSTART:20250309T070000
END:DAYLIGHT
BEGIN:STANDARD
TZOFFSETFROM:-0400
TZOFFSETTO:-0500
TZNAME:EST
DTSTART:20251102T060000
END:STANDARD
BEGIN:DAYLIGHT
TZOFFSETFROM:-0500
TZOFFSETTO:-0400
TZNAME:EDT
DTSTART:20260308T070000
END:DAYLIGHT
BEGIN:STANDARD
TZOFFSETFROM:-0400
TZOFFSETTO:-0500
TZNAME:EST
DTSTART:20261101T060000
END:STANDARD
BEGIN:DAYLIGHT
TZOFFSETFROM:-0500
TZOFFSETTO:-0400
TZNAME:EDT
DTSTART:20270314T070000
END:DAYLIGHT
BEGIN:STANDARD
TZOFFSETFROM:-0400
TZOFFSETTO:-0500
TZNAME:EST
DTSTART:20271107T060000
END:STANDARD
END:VTIMEZONE
BEGIN:VEVENT
DTSTART;TZID=America/Toronto:20260308T190000
DTEND;TZID=America/Toronto:20260308T200000
DTSTAMP:20260421T174906
CREATED:20260203T215841Z
LAST-MODIFIED:20260203T215841Z
UID:10000403-1772996400-1773000000@ocpsa.com
SUMMARY:Referee Virtual PD
DESCRIPTION:
URL:https://ocpsa.com/event/referee-virtual-pd/
LOCATION:Zoom
CATEGORIES:Boccia
ORGANIZER;CN="Ontario Cerebral Palsy Sports Association":MAILTO:juliana@ocpsa.com
END:VEVENT
BEGIN:VEVENT
DTSTART;TZID=America/Toronto:20260222T090000
DTEND;TZID=America/Toronto:20260222T130000
DTSTAMP:20260421T174906
CREATED:20260123T171748Z
LAST-MODIFIED:20260123T171845Z
UID:10000369-1771750800-1771765200@ocpsa.com
SUMMARY:Virtual Boccia Referee Course
DESCRIPTION:This course helps volunteers feel confident officiating\, ensure fair and consistent play\, and support inclusive\, positive environments for athletes. By building local officiating capacity\, volunteers play an important role in strengthening community boccia programs. \nWho is this course intended for? \nAttendees of this course are expected to have a basic understanding of boccia. Though you do not need to know every rule\, having a general sense of the sport will help you in this course. \nThis virtual course is also the first step for referees that intend on officiating at higher level events\, like provincials\, nationals\, or even the Paralympics! \nCourse Dates & Times \n– Saturday February 21\, 9am to 1pm EST \n– Sunday February 22\, 9am to 1pm EST \nCourse Cost \n– FREE for OCPSA Members\n– $45 for non-OCPSA Members \nDeadline to Register: Saturday February 14\, 2026 at midnight. \nPlease note: Ontario has implemented an altered referee pathway. Though other provinces are welcome to join this virtual training\, the statuses used in ON likely won’t transfer to other provinces. Please contact juliana@ocpsa.com to learn/discuss more. The PSO will prioritize Ontario participants if slots are limited. 
URL:https://ocpsa.com/event/virtual-boccia-referee-course/2026-02-22/
LOCATION:Zoom
CATEGORIES:Boccia
ATTACH;FMTTYPE=image/png:https://ocpsa.com/wp-content/uploads/2026/01/coach-apprentic-3-2.png
ORGANIZER;CN="Ontario Cerebral Palsy Sports Association":MAILTO:juliana@ocpsa.com
END:VEVENT
BEGIN:VEVENT
DTSTART;TZID=America/Toronto:20260221T090000
DTEND;TZID=America/Toronto:20260221T130000
DTSTAMP:20260421T174906
CREATED:20260123T171748Z
LAST-MODIFIED:20260123T171845Z
UID:10000368-1771664400-1771678800@ocpsa.com
SUMMARY:Virtual Boccia Referee Course
DESCRIPTION:This course helps volunteers feel confident officiating\, ensure fair and consistent play\, and support inclusive\, positive environments for athletes. By building local officiating capacity\, volunteers play an important role in strengthening community boccia programs. \nWho is this course intended for? \nAttendees of this course are expected to have a basic understanding of boccia. Though you do not need to know every rule\, having a general sense of the sport will help you in this course. \nThis virtual course is also the first step for referees that intend on officiating at higher level events\, like provincials\, nationals\, or even the Paralympics! \nCourse Dates & Times \n– Saturday February 21\, 9am to 1pm EST \n– Sunday February 22\, 9am to 1pm EST \nCourse Cost \n– FREE for OCPSA Members\n– $45 for non-OCPSA Members \nDeadline to Register: Saturday February 14\, 2026 at midnight. \nPlease note: Ontario has implemented an altered referee pathway. Though other provinces are welcome to join this virtual training\, the statuses used in ON likely won’t transfer to other provinces. Please contact juliana@ocpsa.com to learn/discuss more. The PSO will prioritize Ontario participants if slots are limited. 
URL:https://ocpsa.com/event/virtual-boccia-referee-course/2026-02-21/
LOCATION:Zoom
CATEGORIES:Boccia
ATTACH;FMTTYPE=image/png:https://ocpsa.com/wp-content/uploads/2026/01/coach-apprentic-3-2.png
ORGANIZER;CN="Ontario Cerebral Palsy Sports Association":MAILTO:juliana@ocpsa.com
END:VEVENT
END:VCALENDAR