BEGIN:VCALENDAR
VERSION:2.0
PRODID:-//Ontario Cerebral Palsy Sports Association - ECPv6.15.18//NONSGML v1.0//EN
CALSCALE:GREGORIAN
METHOD:PUBLISH
X-WR-CALNAME:Ontario Cerebral Palsy Sports Association
X-ORIGINAL-URL:https://ocpsa.com
X-WR-CALDESC:Events for Ontario Cerebral Palsy Sports Association
REFRESH-INTERVAL;VALUE=DURATION:PT1H
X-Robots-Tag:noindex
X-PUBLISHED-TTL:PT1H
BEGIN:VTIMEZONE
TZID:America/Toronto
BEGIN:DAYLIGHT
TZOFFSETFROM:-0500
TZOFFSETTO:-0400
TZNAME:EDT
DTSTART:20250309T070000
END:DAYLIGHT
BEGIN:STANDARD
TZOFFSETFROM:-0400
TZOFFSETTO:-0500
TZNAME:EST
DTSTART:20251102T060000
END:STANDARD
BEGIN:DAYLIGHT
TZOFFSETFROM:-0500
TZOFFSETTO:-0400
TZNAME:EDT
DTSTART:20260308T070000
END:DAYLIGHT
BEGIN:STANDARD
TZOFFSETFROM:-0400
TZOFFSETTO:-0500
TZNAME:EST
DTSTART:20261101T060000
END:STANDARD
BEGIN:DAYLIGHT
TZOFFSETFROM:-0500
TZOFFSETTO:-0400
TZNAME:EDT
DTSTART:20270314T070000
END:DAYLIGHT
BEGIN:STANDARD
TZOFFSETFROM:-0400
TZOFFSETTO:-0500
TZNAME:EST
DTSTART:20271107T060000
END:STANDARD
END:VTIMEZONE
BEGIN:VEVENT
DTSTART;TZID=America/Toronto:20260420T180000
DTEND;TZID=America/Toronto:20260420T200000
DTSTAMP:20260421T073525
CREATED:20260129T181632Z
LAST-MODIFIED:20260129T181632Z
UID:10000381-1776708000-1776715200@ocpsa.com
SUMMARY:Ottawa Jacks Boccia Club
DESCRIPTION:Welcome back to Boccia in Navan! We will be starting again on Mondays from 6 pm to 8 pm at our Navan location for the start of March. It will be held at 3659 Navan Road. We ask that for the winter months that you do your best to ensure that any Para will arrive at the site after 6 pm since the doors are not open before then. \n  \nThese are our dates for the spring session: \n  \nMondays March 2\, 9\, 16\, 23\, 30 \nMondays April 13\, 20\, 27 – Please note we will not be attending for Easter holiday. \nMondays May 4\, 11\, 25 – Please note we will not be attending for Victoria Day. \nMondays June 1\, 8\, 15\, 22\, 29 \n  \nIf you are planning on attending\, please be sure to text (Beth at 613-601-3948) or email your intent. If you are unable to attend\, please let us know. \n  \nOn occasion we will cancel a practice due to weather conditions or scheduling conflicts. We will do our best to keep you apprised of changes. \n  \nPlease feel free to invite any others that may be interested in giving boccia a shot. \n  \n  \nLooking forward to the start of our spring season! See you soon. \n  \nOttawa Jacks Boccia Club \n 
URL:https://ocpsa.com/event/ottawa-jacks-boccia-club/2026-04-20/
LOCATION:3659 Navan Road\, 3659 Navan Road\, Navan\, Ontario\, K4B1H9\, Canada
CATEGORIES:Boccia
ORGANIZER;CN="Ottawa Jacks Boccia Club":MAILTO:ottawajacksbocciaclub@gmail.com
END:VEVENT
BEGIN:VEVENT
DTSTART;TZID=America/Toronto:20260413T180000
DTEND;TZID=America/Toronto:20260413T200000
DTSTAMP:20260421T073525
CREATED:20260129T181632Z
LAST-MODIFIED:20260129T181632Z
UID:10000380-1776103200-1776110400@ocpsa.com
SUMMARY:Ottawa Jacks Boccia Club
DESCRIPTION:Welcome back to Boccia in Navan! We will be starting again on Mondays from 6 pm to 8 pm at our Navan location for the start of March. It will be held at 3659 Navan Road. We ask that for the winter months that you do your best to ensure that any Para will arrive at the site after 6 pm since the doors are not open before then. \n  \nThese are our dates for the spring session: \n  \nMondays March 2\, 9\, 16\, 23\, 30 \nMondays April 13\, 20\, 27 – Please note we will not be attending for Easter holiday. \nMondays May 4\, 11\, 25 – Please note we will not be attending for Victoria Day. \nMondays June 1\, 8\, 15\, 22\, 29 \n  \nIf you are planning on attending\, please be sure to text (Beth at 613-601-3948) or email your intent. If you are unable to attend\, please let us know. \n  \nOn occasion we will cancel a practice due to weather conditions or scheduling conflicts. We will do our best to keep you apprised of changes. \n  \nPlease feel free to invite any others that may be interested in giving boccia a shot. \n  \n  \nLooking forward to the start of our spring season! See you soon. \n  \nOttawa Jacks Boccia Club \n 
URL:https://ocpsa.com/event/ottawa-jacks-boccia-club/2026-04-13/
LOCATION:3659 Navan Road\, 3659 Navan Road\, Navan\, Ontario\, K4B1H9\, Canada
CATEGORIES:Boccia
ORGANIZER;CN="Ottawa Jacks Boccia Club":MAILTO:ottawajacksbocciaclub@gmail.com
END:VEVENT
BEGIN:VEVENT
DTSTART;TZID=America/Toronto:20260330T180000
DTEND;TZID=America/Toronto:20260330T200000
DTSTAMP:20260421T073525
CREATED:20260129T181632Z
LAST-MODIFIED:20260129T181632Z
UID:10000378-1774893600-1774900800@ocpsa.com
SUMMARY:Ottawa Jacks Boccia Club
DESCRIPTION:Welcome back to Boccia in Navan! We will be starting again on Mondays from 6 pm to 8 pm at our Navan location for the start of March. It will be held at 3659 Navan Road. We ask that for the winter months that you do your best to ensure that any Para will arrive at the site after 6 pm since the doors are not open before then. \n  \nThese are our dates for the spring session: \n  \nMondays March 2\, 9\, 16\, 23\, 30 \nMondays April 13\, 20\, 27 – Please note we will not be attending for Easter holiday. \nMondays May 4\, 11\, 25 – Please note we will not be attending for Victoria Day. \nMondays June 1\, 8\, 15\, 22\, 29 \n  \nIf you are planning on attending\, please be sure to text (Beth at 613-601-3948) or email your intent. If you are unable to attend\, please let us know. \n  \nOn occasion we will cancel a practice due to weather conditions or scheduling conflicts. We will do our best to keep you apprised of changes. \n  \nPlease feel free to invite any others that may be interested in giving boccia a shot. \n  \n  \nLooking forward to the start of our spring season! See you soon. \n  \nOttawa Jacks Boccia Club \n 
URL:https://ocpsa.com/event/ottawa-jacks-boccia-club/2026-03-30/
LOCATION:3659 Navan Road\, 3659 Navan Road\, Navan\, Ontario\, K4B1H9\, Canada
CATEGORIES:Boccia
ORGANIZER;CN="Ottawa Jacks Boccia Club":MAILTO:ottawajacksbocciaclub@gmail.com
END:VEVENT
BEGIN:VEVENT
DTSTART;TZID=America/Toronto:20260323T180000
DTEND;TZID=America/Toronto:20260323T200000
DTSTAMP:20260421T073525
CREATED:20260129T181632Z
LAST-MODIFIED:20260129T181632Z
UID:10000377-1774288800-1774296000@ocpsa.com
SUMMARY:Ottawa Jacks Boccia Club
DESCRIPTION:Welcome back to Boccia in Navan! We will be starting again on Mondays from 6 pm to 8 pm at our Navan location for the start of March. It will be held at 3659 Navan Road. We ask that for the winter months that you do your best to ensure that any Para will arrive at the site after 6 pm since the doors are not open before then. \n  \nThese are our dates for the spring session: \n  \nMondays March 2\, 9\, 16\, 23\, 30 \nMondays April 13\, 20\, 27 – Please note we will not be attending for Easter holiday. \nMondays May 4\, 11\, 25 – Please note we will not be attending for Victoria Day. \nMondays June 1\, 8\, 15\, 22\, 29 \n  \nIf you are planning on attending\, please be sure to text (Beth at 613-601-3948) or email your intent. If you are unable to attend\, please let us know. \n  \nOn occasion we will cancel a practice due to weather conditions or scheduling conflicts. We will do our best to keep you apprised of changes. \n  \nPlease feel free to invite any others that may be interested in giving boccia a shot. \n  \n  \nLooking forward to the start of our spring season! See you soon. \n  \nOttawa Jacks Boccia Club \n 
URL:https://ocpsa.com/event/ottawa-jacks-boccia-club/2026-03-23/
LOCATION:3659 Navan Road\, 3659 Navan Road\, Navan\, Ontario\, K4B1H9\, Canada
CATEGORIES:Boccia
ORGANIZER;CN="Ottawa Jacks Boccia Club":MAILTO:ottawajacksbocciaclub@gmail.com
END:VEVENT
BEGIN:VEVENT
DTSTART;TZID=America/Toronto:20260316T180000
DTEND;TZID=America/Toronto:20260316T200000
DTSTAMP:20260421T073525
CREATED:20260129T181632Z
LAST-MODIFIED:20260129T181632Z
UID:10000376-1773684000-1773691200@ocpsa.com
SUMMARY:Ottawa Jacks Boccia Club
DESCRIPTION:Welcome back to Boccia in Navan! We will be starting again on Mondays from 6 pm to 8 pm at our Navan location for the start of March. It will be held at 3659 Navan Road. We ask that for the winter months that you do your best to ensure that any Para will arrive at the site after 6 pm since the doors are not open before then. \n  \nThese are our dates for the spring session: \n  \nMondays March 2\, 9\, 16\, 23\, 30 \nMondays April 13\, 20\, 27 – Please note we will not be attending for Easter holiday. \nMondays May 4\, 11\, 25 – Please note we will not be attending for Victoria Day. \nMondays June 1\, 8\, 15\, 22\, 29 \n  \nIf you are planning on attending\, please be sure to text (Beth at 613-601-3948) or email your intent. If you are unable to attend\, please let us know. \n  \nOn occasion we will cancel a practice due to weather conditions or scheduling conflicts. We will do our best to keep you apprised of changes. \n  \nPlease feel free to invite any others that may be interested in giving boccia a shot. \n  \n  \nLooking forward to the start of our spring season! See you soon. \n  \nOttawa Jacks Boccia Club \n 
URL:https://ocpsa.com/event/ottawa-jacks-boccia-club/2026-03-16/
LOCATION:3659 Navan Road\, 3659 Navan Road\, Navan\, Ontario\, K4B1H9\, Canada
CATEGORIES:Boccia
ORGANIZER;CN="Ottawa Jacks Boccia Club":MAILTO:ottawajacksbocciaclub@gmail.com
END:VEVENT
BEGIN:VEVENT
DTSTART;TZID=America/Toronto:20260309T180000
DTEND;TZID=America/Toronto:20260309T200000
DTSTAMP:20260421T073525
CREATED:20260129T181632Z
LAST-MODIFIED:20260129T181632Z
UID:10000375-1773079200-1773086400@ocpsa.com
SUMMARY:Ottawa Jacks Boccia Club
DESCRIPTION:Welcome back to Boccia in Navan! We will be starting again on Mondays from 6 pm to 8 pm at our Navan location for the start of March. It will be held at 3659 Navan Road. We ask that for the winter months that you do your best to ensure that any Para will arrive at the site after 6 pm since the doors are not open before then. \n  \nThese are our dates for the spring session: \n  \nMondays March 2\, 9\, 16\, 23\, 30 \nMondays April 13\, 20\, 27 – Please note we will not be attending for Easter holiday. \nMondays May 4\, 11\, 25 – Please note we will not be attending for Victoria Day. \nMondays June 1\, 8\, 15\, 22\, 29 \n  \nIf you are planning on attending\, please be sure to text (Beth at 613-601-3948) or email your intent. If you are unable to attend\, please let us know. \n  \nOn occasion we will cancel a practice due to weather conditions or scheduling conflicts. We will do our best to keep you apprised of changes. \n  \nPlease feel free to invite any others that may be interested in giving boccia a shot. \n  \n  \nLooking forward to the start of our spring season! See you soon. \n  \nOttawa Jacks Boccia Club \n 
URL:https://ocpsa.com/event/ottawa-jacks-boccia-club/2026-03-09/
LOCATION:3659 Navan Road\, 3659 Navan Road\, Navan\, Ontario\, K4B1H9\, Canada
CATEGORIES:Boccia
ORGANIZER;CN="Ottawa Jacks Boccia Club":MAILTO:ottawajacksbocciaclub@gmail.com
END:VEVENT
BEGIN:VEVENT
DTSTART;TZID=America/Toronto:20260302T180000
DTEND;TZID=America/Toronto:20260302T200000
DTSTAMP:20260421T073525
CREATED:20260129T181632Z
LAST-MODIFIED:20260129T181632Z
UID:10000374-1772474400-1772481600@ocpsa.com
SUMMARY:Ottawa Jacks Boccia Club
DESCRIPTION:Welcome back to Boccia in Navan! We will be starting again on Mondays from 6 pm to 8 pm at our Navan location for the start of March. It will be held at 3659 Navan Road. We ask that for the winter months that you do your best to ensure that any Para will arrive at the site after 6 pm since the doors are not open before then. \n  \nThese are our dates for the spring session: \n  \nMondays March 2\, 9\, 16\, 23\, 30 \nMondays April 13\, 20\, 27 – Please note we will not be attending for Easter holiday. \nMondays May 4\, 11\, 25 – Please note we will not be attending for Victoria Day. \nMondays June 1\, 8\, 15\, 22\, 29 \n  \nIf you are planning on attending\, please be sure to text (Beth at 613-601-3948) or email your intent. If you are unable to attend\, please let us know. \n  \nOn occasion we will cancel a practice due to weather conditions or scheduling conflicts. We will do our best to keep you apprised of changes. \n  \nPlease feel free to invite any others that may be interested in giving boccia a shot. \n  \n  \nLooking forward to the start of our spring season! See you soon. \n  \nOttawa Jacks Boccia Club \n 
URL:https://ocpsa.com/event/ottawa-jacks-boccia-club/2026-03-02/
LOCATION:3659 Navan Road\, 3659 Navan Road\, Navan\, Ontario\, K4B1H9\, Canada
CATEGORIES:Boccia
ORGANIZER;CN="Ottawa Jacks Boccia Club":MAILTO:ottawajacksbocciaclub@gmail.com
END:VEVENT
BEGIN:VEVENT
DTSTART;TZID=America/Toronto:20260228T090000
DTEND;TZID=America/Toronto:20260228T114500
DTSTAMP:20260421T073525
CREATED:20260211T193938Z
LAST-MODIFIED:20260211T194004Z
UID:10000405-1772269200-1772279100@ocpsa.com
SUMMARY:Boccia Week in Ontario - Ottawa
DESCRIPTION:
URL:https://ocpsa.com/event/boccia-week-in-ontario-ottawa/
LOCATION:3659 Navan Road\, 3659 Navan Road\, Navan\, Ontario\, K4B1H9\, Canada
CATEGORIES:Boccia
ORGANIZER;CN="Ottawa Jacks Boccia Club":MAILTO:ottawajacksbocciaclub@gmail.com
END:VEVENT
END:VCALENDAR