BEGIN:VCALENDAR
VERSION:2.0
PRODID:-//Ontario Cerebral Palsy Sports Association - ECPv6.15.18//NONSGML v1.0//EN
CALSCALE:GREGORIAN
METHOD:PUBLISH
X-WR-CALNAME:Ontario Cerebral Palsy Sports Association
X-ORIGINAL-URL:https://ocpsa.com
X-WR-CALDESC:Events for Ontario Cerebral Palsy Sports Association
REFRESH-INTERVAL;VALUE=DURATION:PT1H
X-Robots-Tag:noindex
X-PUBLISHED-TTL:PT1H
BEGIN:VTIMEZONE
TZID:America/Toronto
BEGIN:DAYLIGHT
TZOFFSETFROM:-0500
TZOFFSETTO:-0400
TZNAME:EDT
DTSTART:20250309T070000
END:DAYLIGHT
BEGIN:STANDARD
TZOFFSETFROM:-0400
TZOFFSETTO:-0500
TZNAME:EST
DTSTART:20251102T060000
END:STANDARD
BEGIN:DAYLIGHT
TZOFFSETFROM:-0500
TZOFFSETTO:-0400
TZNAME:EDT
DTSTART:20260308T070000
END:DAYLIGHT
BEGIN:STANDARD
TZOFFSETFROM:-0400
TZOFFSETTO:-0500
TZNAME:EST
DTSTART:20261101T060000
END:STANDARD
BEGIN:DAYLIGHT
TZOFFSETFROM:-0500
TZOFFSETTO:-0400
TZNAME:EDT
DTSTART:20270314T070000
END:DAYLIGHT
BEGIN:STANDARD
TZOFFSETFROM:-0400
TZOFFSETTO:-0500
TZNAME:EST
DTSTART:20271107T060000
END:STANDARD
END:VTIMEZONE
BEGIN:VEVENT
DTSTART;TZID=America/Toronto:20260228T100000
DTEND;TZID=America/Toronto:20260228T150000
DTSTAMP:20260421T175214
CREATED:20260123T212957Z
LAST-MODIFIED:20260213T181549Z
UID:10000373-1772272800-1772290800@ocpsa.com
SUMMARY:Boccia Week in Ontario - Waterloo
DESCRIPTION:  \n  \n\nAre you registered yet for the FREE Boccia Try It event?\n\n\nJoin us as we celebrate Boccia Week in Ontario. All ages and all abilities players are welcome!\n\n\nBring the whole family or a friend crew to learn the basics of boccia and then play with the group.\n\n\n Sat. Feb 28\n 10 a.m. OR 12:30 p.m.\n Waterloo Memorial Recreation Complex\n\n\nRegister on ActiveWaterloo: https://bit.ly/3LtI1D0
URL:https://ocpsa.com/event/boccia-week-in-ontario-waterloo/
LOCATION:Waterloo Memorial Recreation Complex\, 101 Father David Bauer Dr.\, Waterloo\, Ontario\, N2L2J2\, Canada
CATEGORIES:Boccia
END:VEVENT
END:VCALENDAR