BEGIN:VCALENDAR
VERSION:2.0
PRODID:-//Ontario Cerebral Palsy Sports Association - ECPv6.15.18//NONSGML v1.0//EN
CALSCALE:GREGORIAN
METHOD:PUBLISH
X-ORIGINAL-URL:https://ocpsa.com
X-WR-CALDESC:Events for Ontario Cerebral Palsy Sports Association
REFRESH-INTERVAL;VALUE=DURATION:PT1H
X-Robots-Tag:noindex
X-PUBLISHED-TTL:PT1H
BEGIN:VTIMEZONE
TZID:America/Toronto
BEGIN:DAYLIGHT
TZOFFSETFROM:-0500
TZOFFSETTO:-0400
TZNAME:EDT
DTSTART:20250309T070000
END:DAYLIGHT
BEGIN:STANDARD
TZOFFSETFROM:-0400
TZOFFSETTO:-0500
TZNAME:EST
DTSTART:20251102T060000
END:STANDARD
BEGIN:DAYLIGHT
TZOFFSETFROM:-0500
TZOFFSETTO:-0400
TZNAME:EDT
DTSTART:20260308T070000
END:DAYLIGHT
BEGIN:STANDARD
TZOFFSETFROM:-0400
TZOFFSETTO:-0500
TZNAME:EST
DTSTART:20261101T060000
END:STANDARD
BEGIN:DAYLIGHT
TZOFFSETFROM:-0500
TZOFFSETTO:-0400
TZNAME:EDT
DTSTART:20270314T070000
END:DAYLIGHT
BEGIN:STANDARD
TZOFFSETFROM:-0400
TZOFFSETTO:-0500
TZNAME:EST
DTSTART:20271107T060000
END:STANDARD
END:VTIMEZONE
BEGIN:VEVENT
DTSTART;TZID=America/Toronto:20260803T160000
DTEND;TZID=America/Toronto:20260803T180000
DTSTAMP:20260421T151601
CREATED:20260213T185421Z
LAST-MODIFIED:20260213T185522Z
UID:10000438-1785772800-1785780000@ocpsa.com
SUMMARY:Variety Village Boccia Weekly Sessions
DESCRIPTION:Boccia Team\nInterested in participating in Boccia at Variety Village? \nVariety Village is excited to launch Variety Village Boccia team with practices held on Mondays 4:00pm – 6:00pm in the fieldhouse. \nThere will be opportunities to learn\, practice\, train and compete with coaching provided. \nAthletes of all ages\, abilities and experience are invited to register to play\, participate and compete \nFor more information\, please contact \nArchie Allison (he/him) \nDirector\, Access\, and Awareness \nVariety – the Children’s Charity of Ontario & Variety Village \n(416) 699-7167 extension 236 \naallison@varietyontario.ca
URL:https://ocpsa.com/event/variety-village-boccia-weekly-sessions-2/2026-08-03/
LOCATION:Variety Village\, 3701 Danforth Ave.\, Scarborough\, Ontario\, M1N 2G2\, Canada
CATEGORIES:Boccia
ORGANIZER;CN="Variety Village Boccia Team":MAILTO:aallison@varietyontario.ca
END:VEVENT
BEGIN:VEVENT
DTSTART;TZID=America/Toronto:20260806T171500
DTEND;TZID=America/Toronto:20260806T191500
DTSTAMP:20260421T151601
CREATED:20260401T155610Z
LAST-MODIFIED:20260401T155655Z
UID:10000501-1786036500-1786043700@ocpsa.com
SUMMARY:Quinte Leatherbacks Weekly Sessions
DESCRIPTION:Come out on Thursday evenings at the Quinte Sports & Wellness Centre and discover the exciting game of Boccia! This inclusive sport is perfect for all ages and abilities and is played indoors from a seated position. Similar to curling\, bocce\, and lawn bowling\, Boccia challenges your precision\, accuracy\, and strategy as you aim soft leather balls toward the target ball\, known as the “jack.” \nBoccia is easy to learn but quickly builds in intensity as you develop skills and tactics. Whether you’re playing for fun or competition\, it’s a great way to sharpen your focus\, build teamwork\, and enjoy some friendly competition! \nSchedule:\n5:15 – 6:10 PM: Skill development & recreational games\n6:10 – 7:15 PM: Competitive games \nEight-Week Program – $36.00 under 16 – $44.00 for 16 and older. \nRegistration is now available online through the Quinte Sports & Wellness Centre (QSWC) website\, in-person at the Quinte Sports & Wellness Centre and alternatively\, by phone at 613-966-4632.
URL:https://ocpsa.com/event/quinte-leatherbacks-weekly-sessions-2-2/2026-08-06/
LOCATION:Quinte Sport & Wellness Centre\, 265 Cannifton Rd.\, Belleville\, Ontario\, K8N0A2\, Canada
CATEGORIES:Boccia
ATTACH;FMTTYPE=image/jpeg:https://ocpsa.com/wp-content/uploads/2024/12/DSC_0574.jpg
ORGANIZER;CN="Quinte Leatherbacks Boccia Club":MAILTO:quintebocciaclub@gmail.com
END:VEVENT
BEGIN:VEVENT
DTSTART;TZID=America/Toronto:20260810T160000
DTEND;TZID=America/Toronto:20260810T180000
DTSTAMP:20260421T151601
CREATED:20260213T185421Z
LAST-MODIFIED:20260213T185522Z
UID:10000439-1786377600-1786384800@ocpsa.com
SUMMARY:Variety Village Boccia Weekly Sessions
DESCRIPTION:Boccia Team\nInterested in participating in Boccia at Variety Village? \nVariety Village is excited to launch Variety Village Boccia team with practices held on Mondays 4:00pm – 6:00pm in the fieldhouse. \nThere will be opportunities to learn\, practice\, train and compete with coaching provided. \nAthletes of all ages\, abilities and experience are invited to register to play\, participate and compete \nFor more information\, please contact \nArchie Allison (he/him) \nDirector\, Access\, and Awareness \nVariety – the Children’s Charity of Ontario & Variety Village \n(416) 699-7167 extension 236 \naallison@varietyontario.ca
URL:https://ocpsa.com/event/variety-village-boccia-weekly-sessions-2/2026-08-10/
LOCATION:Variety Village\, 3701 Danforth Ave.\, Scarborough\, Ontario\, M1N 2G2\, Canada
CATEGORIES:Boccia
ORGANIZER;CN="Variety Village Boccia Team":MAILTO:aallison@varietyontario.ca
END:VEVENT
BEGIN:VEVENT
DTSTART;TZID=America/Toronto:20260813T171500
DTEND;TZID=America/Toronto:20260813T191500
DTSTAMP:20260421T151601
CREATED:20260401T155610Z
LAST-MODIFIED:20260401T155655Z
UID:10000502-1786641300-1786648500@ocpsa.com
SUMMARY:Quinte Leatherbacks Weekly Sessions
DESCRIPTION:Come out on Thursday evenings at the Quinte Sports & Wellness Centre and discover the exciting game of Boccia! This inclusive sport is perfect for all ages and abilities and is played indoors from a seated position. Similar to curling\, bocce\, and lawn bowling\, Boccia challenges your precision\, accuracy\, and strategy as you aim soft leather balls toward the target ball\, known as the “jack.” \nBoccia is easy to learn but quickly builds in intensity as you develop skills and tactics. Whether you’re playing for fun or competition\, it’s a great way to sharpen your focus\, build teamwork\, and enjoy some friendly competition! \nSchedule:\n5:15 – 6:10 PM: Skill development & recreational games\n6:10 – 7:15 PM: Competitive games \nEight-Week Program – $36.00 under 16 – $44.00 for 16 and older. \nRegistration is now available online through the Quinte Sports & Wellness Centre (QSWC) website\, in-person at the Quinte Sports & Wellness Centre and alternatively\, by phone at 613-966-4632.
URL:https://ocpsa.com/event/quinte-leatherbacks-weekly-sessions-2-2/2026-08-13/
LOCATION:Quinte Sport & Wellness Centre\, 265 Cannifton Rd.\, Belleville\, Ontario\, K8N0A2\, Canada
CATEGORIES:Boccia
ATTACH;FMTTYPE=image/jpeg:https://ocpsa.com/wp-content/uploads/2024/12/DSC_0574.jpg
ORGANIZER;CN="Quinte Leatherbacks Boccia Club":MAILTO:quintebocciaclub@gmail.com
END:VEVENT
BEGIN:VEVENT
DTSTART;TZID=America/Toronto:20260817T160000
DTEND;TZID=America/Toronto:20260817T180000
DTSTAMP:20260421T151601
CREATED:20260213T185421Z
LAST-MODIFIED:20260213T185522Z
UID:10000440-1786982400-1786989600@ocpsa.com
SUMMARY:Variety Village Boccia Weekly Sessions
DESCRIPTION:Boccia Team\nInterested in participating in Boccia at Variety Village? \nVariety Village is excited to launch Variety Village Boccia team with practices held on Mondays 4:00pm – 6:00pm in the fieldhouse. \nThere will be opportunities to learn\, practice\, train and compete with coaching provided. \nAthletes of all ages\, abilities and experience are invited to register to play\, participate and compete \nFor more information\, please contact \nArchie Allison (he/him) \nDirector\, Access\, and Awareness \nVariety – the Children’s Charity of Ontario & Variety Village \n(416) 699-7167 extension 236 \naallison@varietyontario.ca
URL:https://ocpsa.com/event/variety-village-boccia-weekly-sessions-2/2026-08-17/
LOCATION:Variety Village\, 3701 Danforth Ave.\, Scarborough\, Ontario\, M1N 2G2\, Canada
CATEGORIES:Boccia
ORGANIZER;CN="Variety Village Boccia Team":MAILTO:aallison@varietyontario.ca
END:VEVENT
BEGIN:VEVENT
DTSTART;TZID=America/Toronto:20260820T171500
DTEND;TZID=America/Toronto:20260820T191500
DTSTAMP:20260421T151601
CREATED:20260401T155610Z
LAST-MODIFIED:20260401T155655Z
UID:10000503-1787246100-1787253300@ocpsa.com
SUMMARY:Quinte Leatherbacks Weekly Sessions
DESCRIPTION:Come out on Thursday evenings at the Quinte Sports & Wellness Centre and discover the exciting game of Boccia! This inclusive sport is perfect for all ages and abilities and is played indoors from a seated position. Similar to curling\, bocce\, and lawn bowling\, Boccia challenges your precision\, accuracy\, and strategy as you aim soft leather balls toward the target ball\, known as the “jack.” \nBoccia is easy to learn but quickly builds in intensity as you develop skills and tactics. Whether you’re playing for fun or competition\, it’s a great way to sharpen your focus\, build teamwork\, and enjoy some friendly competition! \nSchedule:\n5:15 – 6:10 PM: Skill development & recreational games\n6:10 – 7:15 PM: Competitive games \nEight-Week Program – $36.00 under 16 – $44.00 for 16 and older. \nRegistration is now available online through the Quinte Sports & Wellness Centre (QSWC) website\, in-person at the Quinte Sports & Wellness Centre and alternatively\, by phone at 613-966-4632.
URL:https://ocpsa.com/event/quinte-leatherbacks-weekly-sessions-2-2/2026-08-20/
LOCATION:Quinte Sport & Wellness Centre\, 265 Cannifton Rd.\, Belleville\, Ontario\, K8N0A2\, Canada
CATEGORIES:Boccia
ATTACH;FMTTYPE=image/jpeg:https://ocpsa.com/wp-content/uploads/2024/12/DSC_0574.jpg
ORGANIZER;CN="Quinte Leatherbacks Boccia Club":MAILTO:quintebocciaclub@gmail.com
END:VEVENT
BEGIN:VEVENT
DTSTART;TZID=America/Toronto:20260824T160000
DTEND;TZID=America/Toronto:20260824T180000
DTSTAMP:20260421T151601
CREATED:20260213T185421Z
LAST-MODIFIED:20260213T185522Z
UID:10000441-1787587200-1787594400@ocpsa.com
SUMMARY:Variety Village Boccia Weekly Sessions
DESCRIPTION:Boccia Team\nInterested in participating in Boccia at Variety Village? \nVariety Village is excited to launch Variety Village Boccia team with practices held on Mondays 4:00pm – 6:00pm in the fieldhouse. \nThere will be opportunities to learn\, practice\, train and compete with coaching provided. \nAthletes of all ages\, abilities and experience are invited to register to play\, participate and compete \nFor more information\, please contact \nArchie Allison (he/him) \nDirector\, Access\, and Awareness \nVariety – the Children’s Charity of Ontario & Variety Village \n(416) 699-7167 extension 236 \naallison@varietyontario.ca
URL:https://ocpsa.com/event/variety-village-boccia-weekly-sessions-2/2026-08-24/
LOCATION:Variety Village\, 3701 Danforth Ave.\, Scarborough\, Ontario\, M1N 2G2\, Canada
CATEGORIES:Boccia
ORGANIZER;CN="Variety Village Boccia Team":MAILTO:aallison@varietyontario.ca
END:VEVENT
BEGIN:VEVENT
DTSTART;TZID=America/Toronto:20260827T171500
DTEND;TZID=America/Toronto:20260827T191500
DTSTAMP:20260421T151601
CREATED:20260401T155610Z
LAST-MODIFIED:20260401T155655Z
UID:10000504-1787850900-1787858100@ocpsa.com
SUMMARY:Quinte Leatherbacks Weekly Sessions
DESCRIPTION:Come out on Thursday evenings at the Quinte Sports & Wellness Centre and discover the exciting game of Boccia! This inclusive sport is perfect for all ages and abilities and is played indoors from a seated position. Similar to curling\, bocce\, and lawn bowling\, Boccia challenges your precision\, accuracy\, and strategy as you aim soft leather balls toward the target ball\, known as the “jack.” \nBoccia is easy to learn but quickly builds in intensity as you develop skills and tactics. Whether you’re playing for fun or competition\, it’s a great way to sharpen your focus\, build teamwork\, and enjoy some friendly competition! \nSchedule:\n5:15 – 6:10 PM: Skill development & recreational games\n6:10 – 7:15 PM: Competitive games \nEight-Week Program – $36.00 under 16 – $44.00 for 16 and older. \nRegistration is now available online through the Quinte Sports & Wellness Centre (QSWC) website\, in-person at the Quinte Sports & Wellness Centre and alternatively\, by phone at 613-966-4632.
URL:https://ocpsa.com/event/quinte-leatherbacks-weekly-sessions-2-2/2026-08-27/
LOCATION:Quinte Sport & Wellness Centre\, 265 Cannifton Rd.\, Belleville\, Ontario\, K8N0A2\, Canada
CATEGORIES:Boccia
ATTACH;FMTTYPE=image/jpeg:https://ocpsa.com/wp-content/uploads/2024/12/DSC_0574.jpg
ORGANIZER;CN="Quinte Leatherbacks Boccia Club":MAILTO:quintebocciaclub@gmail.com
END:VEVENT
BEGIN:VEVENT
DTSTART;TZID=America/Toronto:20260831T160000
DTEND;TZID=America/Toronto:20260831T180000
DTSTAMP:20260421T151601
CREATED:20260213T185421Z
LAST-MODIFIED:20260213T185522Z
UID:10000442-1788192000-1788199200@ocpsa.com
SUMMARY:Variety Village Boccia Weekly Sessions
DESCRIPTION:Boccia Team\nInterested in participating in Boccia at Variety Village? \nVariety Village is excited to launch Variety Village Boccia team with practices held on Mondays 4:00pm – 6:00pm in the fieldhouse. \nThere will be opportunities to learn\, practice\, train and compete with coaching provided. \nAthletes of all ages\, abilities and experience are invited to register to play\, participate and compete \nFor more information\, please contact \nArchie Allison (he/him) \nDirector\, Access\, and Awareness \nVariety – the Children’s Charity of Ontario & Variety Village \n(416) 699-7167 extension 236 \naallison@varietyontario.ca
URL:https://ocpsa.com/event/variety-village-boccia-weekly-sessions-2/2026-08-31/
LOCATION:Variety Village\, 3701 Danforth Ave.\, Scarborough\, Ontario\, M1N 2G2\, Canada
CATEGORIES:Boccia
ORGANIZER;CN="Variety Village Boccia Team":MAILTO:aallison@varietyontario.ca
END:VEVENT
END:VCALENDAR